BEGIN:VCALENDAR
VERSION:2.0
PRODID:-//UK Photonics Leadership Group - ECPv6.15.20//NONSGML v1.0//EN
CALSCALE:GREGORIAN
METHOD:PUBLISH
X-ORIGINAL-URL:https://photonicsuk.org
X-WR-CALDESC:Events for UK Photonics Leadership Group
REFRESH-INTERVAL;VALUE=DURATION:PT1H
X-Robots-Tag:noindex
X-PUBLISHED-TTL:PT1H
BEGIN:VTIMEZONE
TZID:Europe/London
BEGIN:DAYLIGHT
TZOFFSETFROM:+0000
TZOFFSETTO:+0100
TZNAME:BST
DTSTART:20240331T010000
END:DAYLIGHT
BEGIN:STANDARD
TZOFFSETFROM:+0100
TZOFFSETTO:+0000
TZNAME:GMT
DTSTART:20241027T010000
END:STANDARD
BEGIN:DAYLIGHT
TZOFFSETFROM:+0000
TZOFFSETTO:+0100
TZNAME:BST
DTSTART:20250330T010000
END:DAYLIGHT
BEGIN:STANDARD
TZOFFSETFROM:+0100
TZOFFSETTO:+0000
TZNAME:GMT
DTSTART:20251026T010000
END:STANDARD
BEGIN:DAYLIGHT
TZOFFSETFROM:+0000
TZOFFSETTO:+0100
TZNAME:BST
DTSTART:20260329T010000
END:DAYLIGHT
BEGIN:STANDARD
TZOFFSETFROM:+0100
TZOFFSETTO:+0000
TZNAME:GMT
DTSTART:20261025T010000
END:STANDARD
END:VTIMEZONE
BEGIN:VEVENT
DTSTART;VALUE=DATE:20250326
DTEND;VALUE=DATE:20250328
DTSTAMP:20260422T191121
CREATED:20250117T144600Z
LAST-MODIFIED:20250117T144600Z
UID:7466-1742947200-1743119999@photonicsuk.org
SUMMARY:Industrial Laser Applications Symposium 2025
DESCRIPTION:ILAS 2025 is a unique 2-day event that attracts international delegates and speakers to share the latest in laser material processing.  You are guaranteed to make new contacts\, expand your network\, find business or collaboration opportunities\, meet potential employers and employees to develop your organisation or career.\nThe symposium will be packed with presentations and exhibitions. It’s where academia meets industry for all things industrial laser related\, so don’t miss out.\nPrestigious AILU Awards will be presented at the Symposium Dinner on Wednesday 26nd March – book a dinner ticket when you register.
URL:https://photonicsuk.org/photonicsevent/industrial-laser-applications-symposium-2025
LOCATION:Chesford Grange Hotel\, Chesford Grange\, Kenilworth\, CV8 2LD
CATEGORIES:Exhibition and conference,UK meeting
ORGANIZER;CN="AILU":MAILTO:info@ailu.org.uk
END:VEVENT
END:VCALENDAR