BEGIN:VCALENDAR
VERSION:2.0
PRODID:-//UK Photonics Leadership Group - ECPv6.15.20//NONSGML v1.0//EN
CALSCALE:GREGORIAN
METHOD:PUBLISH
X-ORIGINAL-URL:https://photonicsuk.org
X-WR-CALDESC:Events for UK Photonics Leadership Group
REFRESH-INTERVAL;VALUE=DURATION:PT1H
X-Robots-Tag:noindex
X-PUBLISHED-TTL:PT1H
BEGIN:VTIMEZONE
TZID:Europe/London
BEGIN:DAYLIGHT
TZOFFSETFROM:+0000
TZOFFSETTO:+0100
TZNAME:BST
DTSTART:20210328T010000
END:DAYLIGHT
BEGIN:STANDARD
TZOFFSETFROM:+0100
TZOFFSETTO:+0000
TZNAME:GMT
DTSTART:20211031T010000
END:STANDARD
BEGIN:DAYLIGHT
TZOFFSETFROM:+0000
TZOFFSETTO:+0100
TZNAME:BST
DTSTART:20220327T010000
END:DAYLIGHT
BEGIN:STANDARD
TZOFFSETFROM:+0100
TZOFFSETTO:+0000
TZNAME:GMT
DTSTART:20221030T010000
END:STANDARD
BEGIN:DAYLIGHT
TZOFFSETFROM:+0000
TZOFFSETTO:+0100
TZNAME:BST
DTSTART:20230326T010000
END:DAYLIGHT
BEGIN:STANDARD
TZOFFSETFROM:+0100
TZOFFSETTO:+0000
TZNAME:GMT
DTSTART:20231029T010000
END:STANDARD
END:VTIMEZONE
BEGIN:VEVENT
DTSTART;TZID=Europe/London:20220420T160000
DTEND;TZID=Europe/London:20220420T173000
DTSTAMP:20260425T233324
CREATED:20220420T135944Z
LAST-MODIFIED:20220420T135944Z
UID:5300-1650470400-1650475800@photonicsuk.org
SUMMARY:Photonics for Net Zero
DESCRIPTION:Hear from leaders exploring how photonics can make a major contribution to achieving net zero though increasing green-power generation\, reducing energy consumption\, and reducing waste. With achieving net zero one of the biggest challenges of the 21st century\, photonics will play an increasingly central role in reducing our emissions and increasing our resource and energy efficiency.\n\n \n\nThis free Webinar\, hosted by SPIE online\, will feature an 10 minute presentations from world authorities on the diverse ways photonics impacts net zero and supports sustainability. Presentations will be followed by a Q&A session taking questions from the global audience and exploring unifying theme chaired by the Photonics Leadership Group Chief Executive John Lincoln.\n\n \n\nJoin us 4pm UK time\, 5pm Eu\, 8am Pacific\, 11 Eastern\, Wednesday 20 April 2020\n\n \n\nMeet the speakers:\n\n \n\n 	Simon Andrews\, Fraunhofer UK Research\n 	Vincent Zeng\, Meta\n 	Vipul Bhatt\, II-VI Incorporated\n 	Karin Hinzer\, University of Ottawa\n 	Martin Strassburg\, ams-OSRAM International GmbH\n\npl
URL:https://photonicsuk.org/photonicsevent/photonics-for-net-zero-2
LOCATION:Online Virtual meeting
CATEGORIES:Webinar
ORGANIZER;CN="SPIE":MAILTO:info@spieeurope.org
END:VEVENT
END:VCALENDAR